{
 "currentVersion": 10.91,
 "serviceDescription": "",
 "mapName": "Layers",
 "description": "",
 "copyrightText": "",
 "supportsDynamicLayers": false,
 "layers": [
  {
   "id": 0,
   "name": "reference.FERA.uk_sml",
   "parentLayerId": -1,
   "defaultVisibility": false,
   "subLayerIds": null,
   "minScale": 0,
   "maxScale": 4000000,
   "type": "Raster Layer"
  },
  {
   "id": 1,
   "name": "reference.OSOPENDATA.MiniScale_no_grid",
   "parentLayerId": -1,
   "defaultVisibility": true,
   "subLayerIds": null,
   "minScale": 3999999,
   "maxScale": 230000,
   "type": "Raster Layer"
  },
  {
   "id": 2,
   "name": "reference.OSOPENDATA.OS250KCOL",
   "parentLayerId": -1,
   "defaultVisibility": false,
   "subLayerIds": null,
   "minScale": 230000,
   "maxScale": 76001,
   "type": "Raster Layer"
  },
  {
   "id": 3,
   "name": "reference.OSOPENDATA.VM_district",
   "parentLayerId": -1,
   "defaultVisibility": false,
   "subLayerIds": null,
   "minScale": 0,
   "maxScale": 0,
   "type": "Raster Layer"
  },
  {
   "id": 4,
   "name": "reference.PSMA.OS50KCOL",
   "parentLayerId": -1,
   "defaultVisibility": false,
   "subLayerIds": null,
   "minScale": 76001,
   "maxScale": 25001,
   "type": "Raster Layer"
  },
  {
   "id": 5,
   "name": "reference.PSMA.OS25KCOL",
   "parentLayerId": -1,
   "defaultVisibility": false,
   "subLayerIds": null,
   "minScale": 25000,
   "maxScale": 8001,
   "type": "Raster Layer"
  },
  {
   "id": 6,
   "name": "reference.DBO.VectorMapLocal",
   "parentLayerId": -1,
   "defaultVisibility": false,
   "subLayerIds": null,
   "minScale": 8000,
   "maxScale": 0,
   "type": "Raster Layer"
  }
 ],
 "tables": [],
 "spatialReference": {
  "wkid": 27700,
  "latestWkid": 27700
 },
 "singleFusedMapCache": true,
 "tileInfo": {
  "rows": 256,
  "cols": 256,
  "dpi": 96,
  "format": "Mixed",
  "compressionQuality": 90,
  "origin": {
   "x": 0,
   "y": 1300000
  },
  "spatialReference": {
   "wkid": 27700,
   "latestWkid": 27700
  },
  "lods": [
   {
    "level": 0,
    "resolution": 2116.670900008467,
    "scale": 8000000
   },
   {
    "level": 1,
    "resolution": 1058.3354500042335,
    "scale": 4000000
   },
   {
    "level": 2,
    "resolution": 529.1677250021168,
    "scale": 2000000
   },
   {
    "level": 3,
    "resolution": 264.5838625010584,
    "scale": 1000000
   },
   {
    "level": 4,
    "resolution": 132.2919312505292,
    "scale": 500000
   },
   {
    "level": 5,
    "resolution": 100,
    "scale": 377952
   },
   {
    "level": 6,
    "resolution": 40.000846668360005,
    "scale": 151184
   },
   {
    "level": 7,
    "resolution": 25,
    "scale": 94488
   },
   {
    "level": 8,
    "resolution": 20.000423334180002,
    "scale": 75592
   },
   {
    "level": 9,
    "resolution": 10.000211667090001,
    "scale": 37796
   },
   {
    "level": 10,
    "resolution": 5.000105833545001,
    "scale": 18898
   },
   {
    "level": 11,
    "resolution": 2.5000529167725003,
    "scale": 9449
   },
   {
    "level": 12,
    "resolution": 1.27000254000508,
    "scale": 4800
   }
  ]
 },
 "initialExtent": {
  "xmin": -2771827.7363171554,
  "ymin": 1136665.1887605307,
  "xmax": 4221301.891836572,
  "ymax": 4387377.789347615,
  "spatialReference": {
   "wkid": 27700,
   "latestWkid": 27700
  }
 },
 "fullExtent": {
  "xmin": -5.820766091346741E-11,
  "ymin": -5.675246939063072E-10,
  "xmax": 700000,
  "ymax": 1300000,
  "spatialReference": {
   "wkid": 27700,
   "latestWkid": 27700
  }
 },
 "minScale": 9244648.868618,
 "maxScale": 4513.988705,
 "units": "esriMeters",
 "supportedImageFormatTypes": "PNG32,PNG24,PNG,JPG,DIB,TIFF,EMF,PS,PDF,GIF,SVG,SVGZ,BMP",
 "documentInfo": {
  "Title": "",
  "Author": "",
  "Comments": "",
  "Subject": "A combination of Ordnance Survey basemap data with automatic scale ranges.\nIncludes\nMiniscale\n1:250k\nVectorMap District\n1:50k\n1:25k\nVectorMap Local",
  "Category": "",
  "AntialiasingMode": "None",
  "TextAntialiasingMode": "Force",
  "Keywords": "OS Basemap"
 },
 "capabilities": "Map,Query,Data",
 "supportedQueryFormats": "JSON, geoJSON",
 "exportTilesAllowed": false,
 "referenceScale": 0,
 "supportsDatumTransformation": true,
 "maxRecordCount": 1000,
 "maxImageHeight": 4096,
 "maxImageWidth": 4096,
 "supportedExtensions": ""
}
